BEGIN:VCALENDAR
PRODID:-//Microsoft Corporation//Outlook 16.0 MIMEDIR//EN
VERSION:2.0
METHOD:PUBLISH
X-CALSTART:20250919T153000Z
X-CALEND:20251212T160000Z
X-CLIPSTART:20250919T060000Z
X-CLIPEND:20251219T060000Z
X-WR-RELCALID:{0000002E-2A9C-0693-0A48-9AA7B3A6E400}
X-WR-CALNAME:Jorge Gomez
X-PRIMARY-CALENDAR:TRUE
X-PUBLISHED-TTL:PT60M
X-OWNER;CN="Jorge Gomez":mailto:jorge@autorefaccion.com
X-MS-OLK-WKHRSTART;TZID="Central Standard Time (Mexico)":080000
X-MS-OLK-WKHREND;TZID="Central Standard Time (Mexico)":170000
X-MS-OLK-WKHRDAYS:MO,TU,WE,TH,FR
BEGIN:VTIMEZONE
TZID:Central Standard Time (Mexico)
BEGIN:STANDARD
DTSTART:16010101T000000
TZOFFSETFROM:-0600
TZOFFSETTO:-0600
END:STANDARD
END:VTIMEZONE
BEGIN:VEVENT
DTEND:20250919T160000Z
DTSTAMP:20251020T003131Z
DTSTART:20250919T153000Z
SEQUENCE:0
SUMMARY;LANGUAGE=es-mx:Provisional
TRANSP:OPAQUE
UID:D5iNvfSKaE+v9j/V2vn84w==
X-MICROSOFT-CDO-BUSYSTATUS:TENTATIVE
END:VEVENT
BEGIN:VEVENT
DTEND:20250925T223000Z
DTSTAMP:20251020T003131Z
DTSTART:20250925T220000Z
SEQUENCE:0
SUMMARY;LANGUAGE=es-mx:Provisional
TRANSP:OPAQUE
UID:Q+to64BK5kePDUnNwjb2eg==
X-MICROSOFT-CDO-BUSYSTATUS:TENTATIVE
END:VEVENT
BEGIN:VEVENT
DTEND:20250926T173000Z
DTSTAMP:20251020T003131Z
DTSTART:20250926T163000Z
SEQUENCE:0
SUMMARY;LANGUAGE=es-mx:Provisional
TRANSP:OPAQUE
UID:Yxkkr5IkGkiV2EtVWUUPIQ==
X-MICROSOFT-CDO-BUSYSTATUS:TENTATIVE
END:VEVENT
BEGIN:VEVENT
DTEND:20251003T160000Z
DTSTAMP:20251020T003131Z
DTSTART:20251003T153000Z
SEQUENCE:0
SUMMARY;LANGUAGE=es-mx:Provisional
TRANSP:OPAQUE
UID:XD0QPrCIBUe301gXJvnzAg==
X-MICROSOFT-CDO-BUSYSTATUS:TENTATIVE
END:VEVENT
BEGIN:VEVENT
DTEND:20251010T160000Z
DTSTAMP:20251020T003131Z
DTSTART:20251010T153000Z
SEQUENCE:0
SUMMARY;LANGUAGE=es-mx:Provisional
TRANSP:OPAQUE
UID:SWKwiM07OkeY2epAQ2c9Tg==
X-MICROSOFT-CDO-BUSYSTATUS:TENTATIVE
END:VEVENT
BEGIN:VEVENT
DTEND:20251016T163000Z
DTSTAMP:20251020T003131Z
DTSTART:20251016T160000Z
SEQUENCE:0
SUMMARY;LANGUAGE=es-mx:Provisional
TRANSP:OPAQUE
UID:kOMLaf7IpUapqgKnSVkRtg==
X-MICROSOFT-CDO-BUSYSTATUS:TENTATIVE
END:VEVENT
BEGIN:VEVENT
DTEND:20251017T160000Z
DTSTAMP:20251020T003131Z
DTSTART:20251017T153000Z
SEQUENCE:0
SUMMARY;LANGUAGE=es-mx:Provisional
TRANSP:OPAQUE
UID:PzAASMk1WkqqJqFrCnUeTQ==
X-MICROSOFT-CDO-BUSYSTATUS:TENTATIVE
END:VEVENT
BEGIN:VEVENT
DTEND:20251024T161500Z
DTSTAMP:20251020T003131Z
DTSTART:20251024T150000Z
SEQUENCE:0
SUMMARY;LANGUAGE=es-mx:Provisional
TRANSP:OPAQUE
UID:gHiOGjlK+Ua5AVe0CRfD3A==
X-MICROSOFT-CDO-BUSYSTATUS:TENTATIVE
END:VEVENT
BEGIN:VEVENT
DTEND:20251031T160000Z
DTSTAMP:20251020T003131Z
DTSTART:20251031T153000Z
SEQUENCE:0
SUMMARY;LANGUAGE=es-mx:Provisional
TRANSP:OPAQUE
UID:NjXNJXnhf0e8V+U3wZzDCw==
X-MICROSOFT-CDO-BUSYSTATUS:TENTATIVE
END:VEVENT
BEGIN:VEVENT
DTEND:20251107T160000Z
DTSTAMP:20251020T003131Z
DTSTART:20251107T153000Z
SEQUENCE:0
SUMMARY;LANGUAGE=es-mx:Provisional
TRANSP:OPAQUE
UID:/q1Nvd+6A06pT8m1Qv9QgA==
X-MICROSOFT-CDO-BUSYSTATUS:TENTATIVE
END:VEVENT
BEGIN:VEVENT
DTEND:20251114T160000Z
DTSTAMP:20251020T003131Z
DTSTART:20251114T153000Z
SEQUENCE:0
SUMMARY;LANGUAGE=es-mx:Provisional
TRANSP:OPAQUE
UID:UasETLh8KUe2oAibTk8cCQ==
X-MICROSOFT-CDO-BUSYSTATUS:TENTATIVE
END:VEVENT
BEGIN:VEVENT
DTEND:20251121T160000Z
DTSTAMP:20251020T003131Z
DTSTART:20251121T153000Z
SEQUENCE:0
SUMMARY;LANGUAGE=es-mx:Provisional
TRANSP:OPAQUE
UID:lkQvD12AxUaf9jX5v5WyoA==
X-MICROSOFT-CDO-BUSYSTATUS:TENTATIVE
END:VEVENT
BEGIN:VEVENT
DTEND:20251128T160000Z
DTSTAMP:20251020T003131Z
DTSTART:20251128T153000Z
SEQUENCE:0
SUMMARY;LANGUAGE=es-mx:Provisional
TRANSP:OPAQUE
UID:WgvSHTq4B0KO6MYEtaKfiQ==
X-MICROSOFT-CDO-BUSYSTATUS:TENTATIVE
END:VEVENT
BEGIN:VEVENT
DTEND:20251205T160000Z
DTSTAMP:20251020T003131Z
DTSTART:20251205T153000Z
SEQUENCE:0
SUMMARY;LANGUAGE=es-mx:Provisional
TRANSP:OPAQUE
UID:vKaVooGJIEe7BBGgCt94tg==
X-MICROSOFT-CDO-BUSYSTATUS:TENTATIVE
END:VEVENT
BEGIN:VEVENT
DTEND:20251212T160000Z
DTSTAMP:20251020T003131Z
DTSTART:20251212T153000Z
SEQUENCE:0
SUMMARY;LANGUAGE=es-mx:Provisional
TRANSP:OPAQUE
UID:i/+Q13nYsU+vpe/A9Dc+sA==
X-MICROSOFT-CDO-BUSYSTATUS:TENTATIVE
END:VEVENT
END:VCALENDAR
